BEGIN:VCALENDAR
VERSION:2.0
PRODID:https://github.com/derhansen/sf_event_mgt
METHOD:PUBLISH
BEGIN:VEVENT
UID:6-59@www.donbosco.de
CLASS: PUBLIC
SUMMARY:Don Bosco Hautnah: Uganda
DESCRIPTION:Don Bosco Hautnah - unsere Arbeit live erleben\n\nDon Bosco Mon
 do e.V. und Don Bosco Mission Bonn laden dich herzlich ein, unsere weltweit
 en Projekte aus nächster Nähe kennenzulernen. Begleite uns auf eine digital
 e Reise in unsere Projekte und erlebe persönliche Einblicke, echte Begegnun
 gen und erfahre, wie unsere Arbeit vor Ort wirkt.\n\nVielleicht kennst du d
 ieses Format noch unter dem Namen „Weltwerker hautnah“. Mit „Don Bosco Haut
 nah“ entwickeln wir die Veranstaltungsreihe weiter und machen die Menschen 
 noch sichtbarer, die Don Bosco täglich mit Leben füllen: Kinder und Jugendl
 iche, Salesianer Don Boscos und Don Bosco Schwestern, Mitarbeitende, Ehrena
 mtliche und Projektpartner vor Ort.\n\nHoffnung im Flüchtlingscamp Palabek 
 in Uganda\n\nIn der Flüchtlingssiedlung Palabek im Norden Ugandas leben zeh
 ntausende Menschen, die vor Krieg und Gewalt geflohen sind. Viele Familien 
 stehen vor großen Herausforderungen: fehlende Perspektiven, unsichere Verso
 rgung und begrenzte Bildungschancen.\n\nDon Bosco begleitet die Menschen la
 ngfristig – mit Bildungsangeboten, Ausbildung und einem Landwirtschaftsprog
 ramm, das Selbstständigkeit fördert und neue Perspektiven schafft.\n\nmehr 
 erfahren\n\nSei am 23. April live dabei und erlebe hautnah, wie Don Bosco g
 eflüchteten Familien in Palabek Hoffnung schenkt!\n\nWir freuen uns auf dei
 ne Teilnahme!
LOCATION:ONLINE
DTSTAMP:20260420T085147Z
DTSTART:20260423T173000Z
DTEND:20260423T184500Z
END:VEVENT
END:VCALENDAR
